BEGIN:VCALENDAR
VERSION:2.0
PRODID:-//jEvents 2.0 for Joomla//EN
CALSCALE:GREGORIAN
METHOD:PUBLISH
BEGIN:VEVENT
UID:8f597b4c63503fb828a8978508b494ae
CATEGORIES:Lange Woche N - Offline
CREATED:20251211T120205
SUMMARY:Radwerkstatt: Hilfe zur Selbsthilfe
LOCATION:Kavalier 4 - Maybachstraße\, Magdeburg\, \, 39104\, 
URL;VALUE=URI:https://www.kosa21.de/projekte-entdecken/veranstaltungen/eventdetail/3371/-
 /radwerkstatt-hilfe-zur-selbsthilfe?tmpl=component
DESCRIPTION:<div class="wp-block-column is-layout-flow wp-block-column-is-layout-flow">
 <p>Wir sind soliRADisch eine Fahrrad-Selbsthilfewerkstatt mit sozial-ökolog
 ischem Schwerpunkt in Magdeburg.</p><p>Wir bieten Hilfe zur Selbsthilfe an 
 und unterstützen Dich bei Deiner Fahrradreparatur. Komm vorbei!</p></div> <
 a href="https://www.kosa21.de/projekte-entdecken/veranstaltungen/eventdetai
 l/3371/-/radwerkstatt-hilfe-zur-selbsthilfe?tmpl=component">Dieser Event wu
 rde importiert von: https://www.kosa21.de/projekte-entdecken/veranstaltunge
 n/eventdetail/3371/-/radwerkstatt-hilfe-zur-selbsthilfe?tmpl=component</a>DTSTAMP:20260423T013325
DTSTART:20251002T110000
DTEND:20251002T170000
SEQUENCE:0
TRANSP:OPAQUE
END:VEVENT
END:VCALENDAR