BEGIN:VCALENDAR
VERSION:2.0
PRODID:-//jEvents 2.0 for Joomla//EN
CALSCALE:GREGORIAN
METHOD:PUBLISH
BEGIN:VEVENT
UID:a1cd59c86caf63ea322cce156e2dd4c4
CATEGORIES:Lange Woche N - Offline
CREATED:20251211T115117
SUMMARY:Diesdorfer Reparatur-Café
LOCATION:Ev. Gemeindehaus - Am Denkmal 2\, Magdeburg-Diesdorf\, Sachsen-Anhalt\, 391
 10\, 
URL;VALUE=URI:https://www.kosa21.de/projekte-entdecken/veranstaltungen/eventdetail/3365/-
 /diesdorfer-reparatur-cafe?tmpl=component
DESCRIPTION:<p>14-tägig mittwochs (ungerade Wochen) | 16:00-18:00 Uhr</p> <a href="http
 s://www.kosa21.de/projekte-entdecken/veranstaltungen/eventdetail/3365/-/die
 sdorfer-reparatur-cafe?tmpl=component">Dieser Event wurde importiert von: h
 ttps://www.kosa21.de/projekte-entdecken/veranstaltungen/eventdetail/3365/-/
 diesdorfer-reparatur-cafe?tmpl=component</a>DTSTAMP:20260422T160237
DTSTART:20251008T160000
DTEND:20251008T180000
SEQUENCE:0
TRANSP:OPAQUE
END:VEVENT
END:VCALENDAR