BEGIN:VCALENDAR
VERSION:2.0
PRODID:-//jEvents 2.0 for Joomla//EN
CALSCALE:GREGORIAN
METHOD:PUBLISH
BEGIN:VEVENT
UID:11f0e850ef097c5c317eb17fe6eaf4db
CATEGORIES:Lange Woche N - Offline
CREATED:20251211T115112
SUMMARY:Diesdorfer Reparatur-Café
LOCATION:Ev. Gemeindehaus - Am Denkmal 2\, Magdeburg-Diesdorf\, Sachsen-Anhalt\, 391
 10\, 
URL;VALUE=URI:https://www.kosa21.de/projekte-entdecken/veranstaltungen/eventdetail/3364/-
 /diesdorfer-reparatur-cafe?tmpl=component
DESCRIPTION:14-tägig mittwochs (ungerade Wochen) | 16:00-18:00 Uhr\n Dieser Event wurde
  importiert von: https://www.kosa21.de/projekte-entdecken/veranstaltungen/e
 ventdetail/3364/-/diesdorfer-reparatur-cafe?tmpl=component
X-ALT-DESC;FMTTYPE=text/html:<p>14-tägig mittwochs (ungerade Wochen) | 16:00-18:00 Uhr</p> <a href="http
 s://www.kosa21.de/projekte-entdecken/veranstaltungen/eventdetail/3364/-/die
 sdorfer-reparatur-cafe?tmpl=component">Dieser Event wurde importiert von: h
 ttps://www.kosa21.de/projekte-entdecken/veranstaltungen/eventdetail/3364/-/
 diesdorfer-reparatur-cafe?tmpl=component</a>DTSTAMP:20260423T170103
DTSTART:20250924T160000
DTEND:20250924T180000
SEQUENCE:0
TRANSP:OPAQUE
END:VEVENT
END:VCALENDAR