BEGIN:VCALENDAR
VERSION:2.0
PRODID:-//jEvents 2.0 for Joomla//EN
CALSCALE:GREGORIAN
METHOD:PUBLISH
BEGIN:VEVENT
UID:3a29d751adc8d2977899d05f99544af7
CATEGORIES:Lange Woche N - Offline
CREATED:20251211T114240
SUMMARY:Repair-Café Magdeburg
LOCATION:Repair-Café c/o Malteser Hilfsdienst "Pik-ASZ" - Leipziger Str. 43\, Magdeb
 urg\, \, 39120\, 
URL;VALUE=URI:https://www.kosa21.de/projekte-entdecken/veranstaltungen/eventdetail/3363/-
 /repair-cafe-magdeburg?tmpl=component
DESCRIPTION:Der Reparaturservice in der Kellerwerkstatt ist an eine vorherige Terminbuc
 hung (https://www.repaircafe-md.de/aktuelles-termine-repaircafe-md/buchunge
 n/) gebunden.\nHinweis: Die automatische Freigabe von Online-Terminen erfol
 gt durch das Buchungssystem. Rechtzeitiges Buchen ist bei der ungebremst ho
 hen Nachfrage anzuraten. Ein Vorbeikommen ohne Termin ist sinnlos. Kunden o
 hne Anmeldung können nicht berücksichtigt werden. Weitere Informationen auf
  der Webseite.\n Dieser Event wurde importiert von: https://www.kosa21.de/p
 rojekte-entdecken/veranstaltungen/eventdetail/3363/-/repair-cafe-magdeburg?
 tmpl=component
X-ALT-DESC;FMTTYPE=text/html:<p>Der Reparaturservice in der Kellerwerkstatt ist an eine <strong><a href=
 "https://www.repaircafe-md.de/aktuelles-termine-repaircafe-md/buchungen/" t
 arget="_blank" rel="noopener">vorherige Terminbuchung</a> </strong>gebunden
 .</p><p><strong>Hinweis:</strong> Die automatische Freigabe von Online-Term
 inen erfolgt durch das Buchungssystem. Rechtzeitiges Buchen ist bei der ung
 ebremst hohen Nachfrage anzuraten. Ein Vorbeikommen ohne Termin ist sinnlos
 . Kunden ohne Anmeldung können nicht berücksichtigt werden. Weitere Informa
 tionen auf der Webseite.</p> <a href="https://www.kosa21.de/projekte-entdec
 ken/veranstaltungen/eventdetail/3363/-/repair-cafe-magdeburg?tmpl=component
 ">Dieser Event wurde importiert von: https://www.kosa21.de/projekte-entdeck
 en/veranstaltungen/eventdetail/3363/-/repair-cafe-magdeburg?tmpl=component<
 /a>DTSTAMP:20260423T014556
DTSTART:20251001T150000
DTEND:20251001T170000
SEQUENCE:0
TRANSP:OPAQUE
END:VEVENT
END:VCALENDAR