BEGIN:VCALENDAR
VERSION:2.0
PRODID:-//jEvents 2.0 for Joomla//EN
CALSCALE:GREGORIAN
METHOD:PUBLISH
BEGIN:VEVENT
UID:41e127ca88388e93df544d2496bcb8e2
CATEGORIES:Lange Woche N - Offline
CREATED:20251211T113828
SUMMARY:Marktschwärmer
LOCATION:Feuerwache Magdeburg - Halberstädter Straße 140\, Magdeburg\, \, 39112\, 
URL;VALUE=URI:https://www.kosa21.de/projekte-entdecken/veranstaltungen/eventdetail/3361/-
 /marktschwaermer?tmpl=component
DESCRIPTION:Marktschwärmer-Markttag: Bestellte Produkte aus der Region abholen.\n Diese
 r Event wurde importiert von: https://www.kosa21.de/projekte-entdecken/vera
 nstaltungen/eventdetail/3361/-/marktschwaermer?tmpl=component
X-ALT-DESC;FMTTYPE=text/html:<p>Marktschwärmer-Markttag: Bestellte Produkte aus der Region abholen.</p> 
 <a href="https://www.kosa21.de/projekte-entdecken/veranstaltungen/eventdeta
 il/3361/-/marktschwaermer?tmpl=component">Dieser Event wurde importiert von
 : https://www.kosa21.de/projekte-entdecken/veranstaltungen/eventdetail/3361
 /-/marktschwaermer?tmpl=component</a>DTSTAMP:20260423T234410
DTSTART:20250923T163000
DTEND:20250923T183000
SEQUENCE:0
TRANSP:OPAQUE
END:VEVENT
END:VCALENDAR