BEGIN:VCALENDAR
VERSION:2.0
PRODID:-//jEvents 2.0 for Joomla//EN
CALSCALE:GREGORIAN
METHOD:PUBLISH
BEGIN:VEVENT
UID:b8e3504240dc674ae5653d8e0dbfe444
CATEGORIES:Lange Woche N - Offline
CREATED:20251211T113430
SUMMARY:Fahrrad-Familienfest
LOCATION:Familienhaus im Park - Hohepfortestr. 14\, Magdeburg\, Sachsen-Anhalt\, 391
 06\, 
URL;VALUE=URI:https://www.kosa21.de/projekte-entdecken/veranstaltungen/eventdetail/3360/-
 /fahrrad-familienfest?tmpl=component
DESCRIPTION:Fahrrad-Familienfest – das Highlight für alle Radfans und ihre liebsten Mit
 fahrer! \n Stellt euch vor: Sonnenschein, Vogelgezwitscher, das Summen von 
 Fahrradketten und das Lachen von Kindern – all das findet ihr beim Fahrrad-
 Familienfest! Hier kommen alle zusammen, die das Radfahren lieben und dieje
 nigen, die es noch lieben werden.Erlebt ab 15 Uhr die Freude über das Thema
  Radeln. Im Erlebnispark des Familienhauses im Park warten zahlreiche Mit-M
 ach-Aktionen. Lasst euch vom inspirierenden Radreiseberichte “Mit dem Rad u
 m die Welt” begeistern, während ihr euch an den Ständen mit leckeren Snacks
  und erfrischenden Getränken stärkt. Für die ganze Familie gibt es ein bunt
 es Nachmittagsprogramm mit Hüpfburg, Spielen, Kreativ- und Bastelständen, e
 iner Zaubershow. Auch die Erwachsenen kommen auf ihre Kosten, denn es gibt 
 genug Zeit, sich mit anderen Radfans auszutauschen und vielleicht neue Radf
 reunde zu finden.\nDas Highlight des Nachmittags ist das Laufrad und Kinder
 rad-Rennen im Nordpark für alle Kinder im Vorschulalter. Also, schnappt euc
 h eure Fahrräder und die Familie und kommt zum Fahrrad-Familienfest! Es wir
 d ein Tag voller Spaß, Lachen und Radfahren, den ihr nicht verpassen wollt.
  Wir sehen uns dort!\n Dieser Event wurde importiert von: https://www.kosa2
 1.de/projekte-entdecken/veranstaltungen/eventdetail/3360/-/fahrrad-familien
 fest?tmpl=component
X-ALT-DESC;FMTTYPE=text/html:<div class="fusion-text fusion-text-1"><p>Fahrrad-Familienfest – das Highli
 ght für alle Radfans und ihre liebsten Mitfahrer! <br /> Stellt euch vor: S
 onnenschein, Vogelgezwitscher, das Summen von Fahrradketten und das Lachen 
 von Kindern – all das findet ihr beim Fahrrad-Familienfest! Hier kommen all
 e zusammen, die das Radfahren lieben und diejenigen, die es noch lieben wer
 den.<br aria-hidden="true" />Erlebt ab 15 Uhr die Freude über das Thema Rad
 eln. Im Erlebnispark des Familienhauses im Park warten zahlreiche Mit-Mach-
 Aktionen. Lasst euch vom inspirierenden Radreiseberichte “Mit dem Rad um di
 e Welt” begeistern, während ihr euch an den Ständen mit leckeren Snacks und
  erfrischenden Getränken stärkt. Für die ganze Familie gibt es ein buntes N
 achmittagsprogramm mit Hüpfburg, Spielen, Kreativ- und Bastelständen, einer
  Zaubershow. Auch die Erwachsenen kommen auf ihre Kosten, denn es gibt genu
 g Zeit, sich mit anderen Radfans auszutauschen und vielleicht neue Radfreun
 de zu finden.</p><p>Das Highlight des Nachmittags ist das Laufrad und Kinde
 rrad-Rennen im Nordpark für alle Kinder im Vorschulalter. Also, schnappt eu
 ch eure Fahrräder und die Familie und kommt zum Fahrrad-Familienfest! Es wi
 rd ein Tag voller Spaß, Lachen und Radfahren, den ihr nicht verpassen wollt
 . Wir sehen uns dort!</p></div> <a href="https://www.kosa21.de/projekte-ent
 decken/veranstaltungen/eventdetail/3360/-/fahrrad-familienfest?tmpl=compone
 nt">Dieser Event wurde importiert von: https://www.kosa21.de/projekte-entde
 cken/veranstaltungen/eventdetail/3360/-/fahrrad-familienfest?tmpl=component
 </a>DTSTAMP:20260424T012205
DTSTART:20250921T150000
DTEND:20250921T180000
SEQUENCE:0
TRANSP:OPAQUE
END:VEVENT
END:VCALENDAR