BEGIN:VCALENDAR
VERSION:2.0
PRODID:-//jEvents 2.0 for Joomla//EN
CALSCALE:GREGORIAN
METHOD:PUBLISH
BEGIN:VEVENT
UID:f21290fb18c3556cccd84169377eadbf
CATEGORIES:Lange Woche N - Offline
CREATED:20251211T113151
SUMMARY:Fahrrad-Demo über den Magdeburger Ring 2025
LOCATION:Domplatz - \, Magdeburg\, Sachsen-Anhalt\, 39104\, 
URL;VALUE=URI:https://www.kosa21.de/projekte-entdecken/veranstaltungen/eventdetail/3359/-
 /fahrrad-demo-ueber-den-magdeburger-ring-2025?tmpl=component
DESCRIPTION:<p>ADFC und Radkultur laden zur Fahrraddemo 2025 über den Magdeburger Ring 
 und durch die Stadt ein.</p><p>Treffpunkt: Domplatz, 39104 Magdeburg</p> <a
  href="https://www.kosa21.de/projekte-entdecken/veranstaltungen/eventdetail
 /3359/-/fahrrad-demo-ueber-den-magdeburger-ring-2025?tmpl=component">Dieser
  Event wurde importiert von: https://www.kosa21.de/projekte-entdecken/veran
 staltungen/eventdetail/3359/-/fahrrad-demo-ueber-den-magdeburger-ring-2025?
 tmpl=component</a>DTSTAMP:20260424T042216
DTSTART:20250921T140000
DTEND:20250921T160000
SEQUENCE:0
TRANSP:OPAQUE
END:VEVENT
END:VCALENDAR