BEGIN:VCALENDAR
VERSION:2.0
PRODID:-//jEvents 2.0 for Joomla//EN
CALSCALE:GREGORIAN
METHOD:PUBLISH
BEGIN:VEVENT
UID:527038d162ef84e71e651c78de393783
CATEGORIES:Lange Woche N - Offline
CREATED:20251211T112606
SUMMARY:Treffen Magdeburger Radkultur
LOCATION:ADFC - Breiter Weg 11A\, Magdeburg\, Sachsen-Anhalt\, 39104\, 
URL;VALUE=URI:https://www.kosa21.de/projekte-entdecken/veranstaltungen/eventdetail/3358/-
 /treffen-magdeburger-radkultur?tmpl=component
DESCRIPTION:<p>Jeden zweiten und vierten Mittwoch im Monat trifft sich die Magdeburger 
 Radkultur, um Projekte und Aktionen zu planen.</p> <a href="https://www.kos
 a21.de/projekte-entdecken/veranstaltungen/eventdetail/3358/-/treffen-magdeb
 urger-radkultur?tmpl=component">Dieser Event wurde importiert von: https://
 www.kosa21.de/projekte-entdecken/veranstaltungen/eventdetail/3358/-/treffen
 -magdeburger-radkultur?tmpl=component</a>DTSTAMP:20260422T143046
DTSTART:20251008T180000
DTEND:20251008T190000
SEQUENCE:0
TRANSP:OPAQUE
END:VEVENT
END:VCALENDAR