BEGIN:VCALENDAR
VERSION:2.0
PRODID:-//jEvents 2.0 for Joomla//EN
CALSCALE:GREGORIAN
METHOD:PUBLISH
BEGIN:VEVENT
UID:e191a0b18d08d4e78208389a0452192c
CATEGORIES:Lange Woche N - Offline
CREATED:20251211T112549
SUMMARY:Treffen Magdeburger Radkultur
LOCATION:ADFC - Breiter Weg 11A\, Magdeburg\, Sachsen-Anhalt\, 39104\, 
URL;VALUE=URI:https://www.kosa21.de/projekte-entdecken/veranstaltungen/eventdetail/3357/-
 /treffen-magdeburger-radkultur?tmpl=component
DESCRIPTION:Jeden zweiten und vierten Mittwoch im Monat trifft sich die Magdeburger Rad
 kultur, um Projekte und Aktionen zu planen.\n Dieser Event wurde importiert
  von: https://www.kosa21.de/projekte-entdecken/veranstaltungen/eventdetail/
 3357/-/treffen-magdeburger-radkultur?tmpl=component
X-ALT-DESC;FMTTYPE=text/html:<p>Jeden zweiten und vierten Mittwoch im Monat trifft sich die Magdeburger 
 Radkultur, um Projekte und Aktionen zu planen.</p> <a href="https://www.kos
 a21.de/projekte-entdecken/veranstaltungen/eventdetail/3357/-/treffen-magdeb
 urger-radkultur?tmpl=component">Dieser Event wurde importiert von: https://
 www.kosa21.de/projekte-entdecken/veranstaltungen/eventdetail/3357/-/treffen
 -magdeburger-radkultur?tmpl=component</a>DTSTAMP:20260423T152943
DTSTART:20250924T180000
DTEND:20250924T190000
SEQUENCE:0
TRANSP:OPAQUE
END:VEVENT
END:VCALENDAR