BEGIN:VCALENDAR
VERSION:2.0
PRODID:-//jEvents 2.0 for Joomla//EN
CALSCALE:GREGORIAN
METHOD:PUBLISH
BEGIN:VEVENT
UID:223800ab55019e678a64c99bc31fdd8c
CATEGORIES:Lange Woche N - Offline
CREATED:20251211T111735
SUMMARY:Kleidertauschparty
LOCATION:Volksbad Buckau - Karl-Schmidt-Straße 56\, Magdeburg\, Sachsen-Anhalt\, 391
 04\, 
URL;VALUE=URI:https://www.kosa21.de/projekte-entdecken/veranstaltungen/eventdetail/3356/-
 /kleidertauschparty?tmpl=component
DESCRIPTION:Am 11. Oktober 2025 lädt das Volksbad Buckau in Zusammenarbeit mit Träschic
  und Greenpeace Magdeburg im Rahmen der Fashion Revolution Magdeburg zur Kl
 eidertauschparty ein. Von 14.00 bis 20.00 Uhr haben Besuchende die Möglichk
 eit, ihre ehemals geliebten Kleidungsstücke gegen neue Schätze zu tauschen 
 und anderen Menschen eine Freude zu machen.\nDie Veranstaltung bietet die M
 öglichkeit, Kleidungsstücke, die entweder zu klein, zu groß oder einfach ni
 cht mehr geliebt werden, ein neues Zuhause zu geben. Nicht nur Fehl- oder I
 mpulskäufe sind willkommen, sondern auch ehemals heiß geliebte Kleidung, di
 e man einfach nicht mehr sehen kann.\nUm die Unkosten decken zu können, fre
 uen wir uns über alle, die am Einlass 1,00 Euro als Solibeitrag dalassen.\n
 Das kann getauscht werden: – Kleidung – Kinderkleidung – Schuhe – Schmuck –
  Accessoires – Mützen, Caps und Hüte – Schals und Tücher – Kosmetik\nNeben 
 dem Kleidertausch gibt es Getränke und Kuchen.\nDer Kleidertausch im Volksb
 ad Buckau ist Teil der Fashion Revolution Magdeburg (https://fashionrevolut
 ion-magdeburg.de/), einer internationalen Bewegung, die sich für nachhaltig
 e und faire Mode einsetzt. Ziel der Veranstaltung ist es, auf die Probleme 
 der Wegwerfgesellschaft hinzuweisen und gleichzeitig Alternativen zum konve
 ntionellen Konsum aufzuzeigen.\nDie übrig gebliebenen Teile werden anschlie
 ßend sortiert und dann entweder gespendet, repariert oder geändert, um ein 
 zweites Dasein als Lieblingsteil zu bekommen.\nWir ersetzen dir nicht den G
 ang zur Altkleidertonne!\n Dieser Event wurde importiert von: https://www.k
 osa21.de/projekte-entdecken/veranstaltungen/eventdetail/3356/-/kleidertausc
 hparty?tmpl=component
X-ALT-DESC;FMTTYPE=text/html:<p>Am 11. Oktober 2025 lädt das <strong>Volksbad Buckau</strong> in Zusamme
 narbeit mit <strong>Träschic</strong> und <strong>Greenpeace Magdeburg</str
 ong> im Rahmen der <strong>Fashion Revolution Magdeburg</strong> zur Kleide
 rtauschparty ein. Von 14.00 bis 20.00 Uhr haben Besuchende die Möglichkeit,
  ihre ehemals geliebten Kleidungsstücke gegen neue Schätze zu tauschen und 
 anderen Menschen eine Freude zu machen.</p><p>Die Veranstaltung bietet die 
 Möglichkeit, Kleidungsstücke, die entweder zu klein, zu groß oder einfach n
 icht mehr geliebt werden, ein neues Zuhause zu geben. Nicht nur Fehl- oder 
 Impulskäufe sind willkommen, sondern auch ehemals heiß geliebte Kleidung, d
 ie man einfach nicht mehr sehen kann.</p><p>Um die Unkosten decken zu könne
 n, freuen wir uns über alle, die am Einlass<strong> 1,00 Euro als Solibeitr
 ag</strong> dalassen.</p><p><strong>Das kann getauscht werden:</strong> – K
 leidung – Kinderkleidung – Schuhe – Schmuck – Accessoires – Mützen, Caps un
 d Hüte – Schals und Tücher – Kosmetik</p><p>Neben dem Kleidertausch gibt es
  Getränke und Kuchen.</p><p>Der Kleidertausch im Volksbad Buckau ist Teil d
 er <a href="https://fashionrevolution-magdeburg.de/" target="_blank" rel="n
 oopener noreferrer nofollow">Fashion Revolution Magdeburg</a>, einer intern
 ationalen Bewegung, die sich für nachhaltige und faire Mode einsetzt. Ziel 
 der Veranstaltung ist es, auf die Probleme der Wegwerfgesellschaft hinzuwei
 sen und gleichzeitig Alternativen zum konventionellen Konsum aufzuzeigen.</
 p><p>Die übrig gebliebenen Teile werden anschließend sortiert und dann entw
 eder gespendet, repariert oder geändert, um ein zweites Dasein als Liebling
 steil zu bekommen.</p><p><strong>Wir ersetzen dir nicht den Gang zur Altkle
 idertonne!</strong></p> <a href="https://www.kosa21.de/projekte-entdecken/v
 eranstaltungen/eventdetail/3356/-/kleidertauschparty?tmpl=component">Dieser
  Event wurde importiert von: https://www.kosa21.de/projekte-entdecken/veran
 staltungen/eventdetail/3356/-/kleidertauschparty?tmpl=component</a>DTSTAMP:20260422T091320
DTSTART:20251011T140000
DTEND:20251011T200000
SEQUENCE:0
TRANSP:OPAQUE
END:VEVENT
END:VCALENDAR