BEGIN:VCALENDAR
VERSION:2.0
PRODID:-//jEvents 2.0 for Joomla//EN
CALSCALE:GREGORIAN
METHOD:PUBLISH
BEGIN:VEVENT
UID:36bf5900fdaf540866b8c7f8cbf82903
CATEGORIES:Lange Woche N - Offline
CREATED:20251211T111339
SUMMARY:10 Jahre PARKing Day in Magdeburg
LOCATION:Südl. Breiter Weg - \, Magdeburg\, Sachsen-Anhalt\, 39104\, 
URL;VALUE=URI:https://www.kosa21.de/projekte-entdecken/veranstaltungen/eventdetail/3355/-
 /10-jahre-parking-day-in-magdeburg?tmpl=component
DESCRIPTION:Am 19.09. findet der diesjährige Parking Day in Magdeburg statt! Für einen 
 Nachmittag verwandeln wir Parkplätze in kreative, grüne und lebendige Orte 
 – mit Sitzgelegenheiten, Pflanzen, Musik und weiteren Aktionen. Statt Autos
  stehen hier Ideen im Mittelpunkt: Wie wollen wir unseren Stadtraum nutzen?
  Kommt vorbei, macht mit und lasst uns gemeinsam zeigen, wie vielfältig urb
 ane Flächen genutzt werden können!\nZum internationalen PARKing Day werden 
 weltweit PKW-Stellflächen zu kleinen, temporären „Parks“ umgestaltet. Es gi
 lt zu zeigen, wie Parkplätze im öffentlichen Raum sinnvoll genutzt werden k
 önnen, um mehr Lebensqualität zu schaffen. Auch in Magdeburg wollen wir zei
 gen, wie lebenswert Straßen ohne motorisierte Fahrzeuge sein könnten. \n Di
 eser Event wurde importiert von: https://www.kosa21.de/projekte-entdecken/v
 eranstaltungen/eventdetail/3355/-/10-jahre-parking-day-in-magdeburg?tmpl=co
 mponent
X-ALT-DESC;FMTTYPE=text/html:<p>Am 19.09. findet der diesjährige Parking Day in Magdeburg statt! Für ein
 en Nachmittag verwandeln wir Parkplätze in kreative, grüne und lebendige Or
 te – mit Sitzgelegenheiten, Pflanzen, Musik und weiteren Aktionen. Statt Au
 tos stehen hier Ideen im Mittelpunkt: Wie wollen wir unseren Stadtraum nutz
 en? Kommt vorbei, macht mit und lasst uns gemeinsam zeigen, wie vielfältig 
 urbane Flächen genutzt werden können!</p><p>Zum internationalen PARKing Day
  werden weltweit PKW-Stellflächen zu kleinen, temporären „Parks“ umgestalte
 t. Es gilt zu zeigen, wie Parkplätze im öffentlichen Raum sinnvoll genutzt 
 werden können, um mehr Lebensqualität zu schaffen. Auch in Magdeburg wollen
  wir zeigen, wie lebenswert Straßen ohne motorisierte Fahrzeuge sein könnte
 n.&nbsp;</p> <a href="https://www.kosa21.de/projekte-entdecken/veranstaltun
 gen/eventdetail/3355/-/10-jahre-parking-day-in-magdeburg?tmpl=component">Di
 eser Event wurde importiert von: https://www.kosa21.de/projekte-entdecken/v
 eranstaltungen/eventdetail/3355/-/10-jahre-parking-day-in-magdeburg?tmpl=co
 mponent</a>DTSTAMP:20260424T105815
DTSTART:20250919T150000
DTEND:20250919T180000
SEQUENCE:0
TRANSP:OPAQUE
END:VEVENT
END:VCALENDAR