BEGIN:VCALENDAR
VERSION:2.0
PRODID:-//jEvents 2.0 for Joomla//EN
CALSCALE:GREGORIAN
METHOD:PUBLISH
BEGIN:VEVENT
UID:3115f94a0be7008461c4dc230f84c1e1
CATEGORIES:Lange Woche N - Offline
CREATED:20251211T110803
SUMMARY:Fair Tour 2025
LOCATION:Einewelthaus Magdeburg - Schellingstr. 3-4\, Magdeburg\, Sachsen-Anhalt\, 3
 9104\, 
URL;VALUE=URI:https://www.kosa21.de/projekte-entdecken/veranstaltungen/eventdetail/3354/-
 /fair-tour-2025?tmpl=component
DESCRIPTION:<p>Das EINE WELT Netzwerk Sachsen‑Anhalt lädt herzlich zur <em>Fair‑Tour 20
 25</em> ein! Gezeigt wird der Dokumentarfilm <em>„The Pickers“</em>, der di
 e Lebens- und Arbeitsbedingungen migrantischer Erntehelfer:innen in Europa 
 eindrucksvoll beleuchtet. Im Anschluss an den Film gibt es die Möglichkeit 
 zu einer offenen Diskussion.</p> <a href="https://www.kosa21.de/projekte-en
 tdecken/veranstaltungen/eventdetail/3354/-/fair-tour-2025?tmpl=component">D
 ieser Event wurde importiert von: https://www.kosa21.de/projekte-entdecken/
 veranstaltungen/eventdetail/3354/-/fair-tour-2025?tmpl=component</a>DTSTAMP:20260423T202024
DTSTART:20250923T180000
SEQUENCE:0
TRANSP:OPAQUE
END:VEVENT
END:VCALENDAR