BEGIN:VCALENDAR
VERSION:2.0
PRODID:-//jEvents 2.0 for Joomla//EN
CALSCALE:GREGORIAN
METHOD:PUBLISH
BEGIN:VEVENT
UID:49e1b47e09fadecf6adcb181c2cbf835
CATEGORIES:Lange Woche N - Offline
CREATED:20251211T105749
SUMMARY:KIEZ Café: Platz & Kuchen
LOCATION:Tacheles - Sternstraße 30\, Magdeburg\, Sachsen-Anhalt\, 39104\, 
URL;VALUE=URI:https://www.kosa21.de/projekte-entdecken/veranstaltungen/eventdetail/3352/-
 /kiez-cafe-platz-kuchen?tmpl=component
DESCRIPTION:Wir laden euch herzlich zu unserem Kiez Café Platz &amp; Kuchen ein! Das se
 lbstorganisierte Café ist ein Ort an dem Menschen aus der Nachbarschaft zus
 ammenkommen können, um sich kennenzulernen, auszutauschen, sich mit Freund*
 innen oder Familie zu verabreden und eine gute Zeit miteinander zu verbring
 en.\nIm Kiez Café Tacheles erwartet euch nicht nur eine gemütliche Atmosphä
 re, Kaffee und Tee, sondern auch eine wechselnde Auswahl an selbstgemachtem
  (veganen) Kuchen. Gegen Spende.\nUnser Ziel ist es, ein Angebot zu schaffe
 n, das für alle zugänglich ist, unabhängig von finanziellen Möglichkeiten. 
 Deshalb legen wir großen Wert darauf, dass sich jede*r bei uns willkommen f
 ühlt und sich auch mit kleinem Budget einen schönen Nachmittag machen kann.
 \n Dieser Event wurde importiert von: https://www.kosa21.de/projekte-entdec
 ken/veranstaltungen/eventdetail/3352/-/kiez-cafe-platz-kuchen?tmpl=componen
 t
X-ALT-DESC;FMTTYPE=text/html:<p>Wir laden euch herzlich zu unserem Kiez Café Platz &amp; Kuchen ein! Das
  selbstorganisierte Café ist ein Ort an dem Menschen aus der Nachbarschaft 
 zusammenkommen können, um sich kennenzulernen, auszutauschen, sich mit Freu
 nd*innen oder Familie zu verabreden und eine gute Zeit miteinander zu verbr
 ingen.</p><p>Im Kiez Café Tacheles erwartet euch nicht nur eine gemütliche 
 Atmosphäre, Kaffee und Tee, sondern auch eine wechselnde Auswahl an selbstg
 emachtem (veganen) Kuchen. Gegen Spende.</p><p>Unser Ziel ist es, ein Angeb
 ot zu schaffen, das für alle zugänglich ist, unabhängig von finanziellen Mö
 glichkeiten. Deshalb legen wir großen Wert darauf, dass sich jede*r bei uns
  willkommen fühlt und sich auch mit kleinem Budget einen schönen Nachmittag
  machen kann.</p> <a href="https://www.kosa21.de/projekte-entdecken/veranst
 altungen/eventdetail/3352/-/kiez-cafe-platz-kuchen?tmpl=component">Dieser E
 vent wurde importiert von: https://www.kosa21.de/projekte-entdecken/veranst
 altungen/eventdetail/3352/-/kiez-cafe-platz-kuchen?tmpl=component</a>DTSTAMP:20260422T221049
DTSTART:20251002T150000
DTEND:20251002T170000
SEQUENCE:0
TRANSP:OPAQUE
END:VEVENT
END:VCALENDAR