BEGIN:VCALENDAR
VERSION:2.0
PRODID:-//jEvents 2.0 for Joomla//EN
CALSCALE:GREGORIAN
METHOD:PUBLISH
BEGIN:VEVENT
UID:9318a4953d8216f9f99467da5f768e96
CATEGORIES:Lange Woche N - Offline
CREATED:20251211T103525
SUMMARY:Nachbarschaftsbrunch
LOCATION:Tacheles - Sternstraße 30\, Magdeburg\, Sachsen-Anhalt\, 39104\, 
URL;VALUE=URI:https://www.kosa21.de/projekte-entdecken/veranstaltungen/eventdetail/3348/-
 /nachbarschaftsbrunch?tmpl=component
DESCRIPTION:Einmal im Monat veranstalten wir von platz*machen einen Brunch (engl.: brea
 kfast = frühstück + lunch = Mittagessen). Mit diesem Angebot wollen wir ein
 e Gelegenheit schaffen, um einander in der Nachbarschaft besser kennen zu l
 ernen. Alle können etwas mitbringen (z.B. Aufstrich, Obst oder Kuchen) und 
 beim Essen können wir uns über eure/ Ihre Anliegen, Fragen oder Probleme au
 stauschen.\nWir freuen uns auf alle die dabei sind!\n Dieser Event wurde im
 portiert von: https://www.kosa21.de/projekte-entdecken/veranstaltungen/even
 tdetail/3348/-/nachbarschaftsbrunch?tmpl=component
X-ALT-DESC;FMTTYPE=text/html:<p>Einmal im Monat veranstalten wir von platz*machen einen Brunch (engl.: b
 reakfast = frühstück + lunch = Mittagessen). Mit diesem Angebot wollen wir 
 eine Gelegenheit schaffen, um einander in der Nachbarschaft besser kennen z
 u lernen. Alle können etwas mitbringen (z.B. Aufstrich, Obst oder Kuchen) u
 nd beim Essen können wir uns über eure/ Ihre Anliegen, Fragen oder Probleme
  austauschen.</p><p>Wir freuen uns auf alle die dabei sind!</p> <a href="ht
 tps://www.kosa21.de/projekte-entdecken/veranstaltungen/eventdetail/3348/-/n
 achbarschaftsbrunch?tmpl=component">Dieser Event wurde importiert von: http
 s://www.kosa21.de/projekte-entdecken/veranstaltungen/eventdetail/3348/-/nac
 hbarschaftsbrunch?tmpl=component</a>DTSTAMP:20260422T203513
DTSTART:20251005T110000
DTEND:20251005T140000
SEQUENCE:0
TRANSP:OPAQUE
END:VEVENT
END:VCALENDAR