BEGIN:VCALENDAR
VERSION:2.0
PRODID:-//jEvents 2.0 for Joomla//EN
CALSCALE:GREGORIAN
METHOD:PUBLISH
BEGIN:VEVENT
UID:9138acad498043a48c8ae4b46ca3ab68
CATEGORIES:Lange Woche N - Offline
CREATED:20251211T103303
SUMMARY:Küche für Alle (KÜFA)
LOCATION:Tacheles - Sternstraße 30\, Magdeburg\, Sachsen-Anhalt\, 39104\, 
URL;VALUE=URI:https://www.kosa21.de/projekte-entdecken/veranstaltungen/eventdetail/3347/-
 /kueche-fuer-alle-kuefa?tmpl=component
DESCRIPTION:Selbstgemachtes veganes Essen - kostenlos und ohne Vorweisen von Berechtigu
 ngsscheinen o.ä. Die KüFa ermöglicht Menschen am Hasselbachplatz warme Mahl
 zeit. Inzwischen hat sie sich als Treff- und Begegnungsort für Menschen aus
  der Nachbar:innenschaft und darüber hinaus etabliert.\n Dieser Event wurde
  importiert von: https://www.kosa21.de/projekte-entdecken/veranstaltungen/e
 ventdetail/3347/-/kueche-fuer-alle-kuefa?tmpl=component
X-ALT-DESC;FMTTYPE=text/html:<p>Selbstgemachtes veganes Essen - kostenlos und ohne Vorweisen von Berecht
 igungsscheinen o.ä. Die KüFa ermöglicht Menschen am Hasselbachplatz warme M
 ahlzeit. Inzwischen hat sie sich als Treff- und Begegnungsort für Menschen 
 aus der Nachbar:innenschaft und darüber hinaus etabliert.</p> <a href="http
 s://www.kosa21.de/projekte-entdecken/veranstaltungen/eventdetail/3347/-/kue
 che-fuer-alle-kuefa?tmpl=component">Dieser Event wurde importiert von: http
 s://www.kosa21.de/projekte-entdecken/veranstaltungen/eventdetail/3347/-/kue
 che-fuer-alle-kuefa?tmpl=component</a>DTSTAMP:20260423T070039
DTSTART:20250927T160000
DTEND:20250927T180000
SEQUENCE:0
TRANSP:OPAQUE
END:VEVENT
END:VCALENDAR