BEGIN:VCALENDAR
VERSION:2.0
PRODID:-//jEvents 2.0 for Joomla//EN
CALSCALE:GREGORIAN
METHOD:PUBLISH
BEGIN:VEVENT
UID:9156f5637d1a9d0189dd35cbd9e9e5c9
CATEGORIES:Lange Woche N - Offline
CREATED:20251211T101750
SUMMARY:Fahrradwerkstatt: "PaRADies"
LOCATION:Tacheles - Sternstraße 30\, Magdeburg\, Sachsen-Anhalt\, 39104\, 
URL;VALUE=URI:https://www.kosa21.de/projekte-entdecken/veranstaltungen/eventdetail/3345/-
 /fahrradwerkstatt-paradies?tmpl=component
DESCRIPTION:<section><p>Repariere dein Fahrrad oder lerne es bei uns. Wir bieten dir Re
 paraturequipment und Knowhow. Komm vorbei.</p><p>Übrigens: wir nehmen auch 
 alte Fahrräder als Spende entgegen, reparieren sie und verschenken sie dann
  weiter.</p></section> <a href="https://www.kosa21.de/projekte-entdecken/ve
 ranstaltungen/eventdetail/3345/-/fahrradwerkstatt-paradies?tmpl=component">
 Dieser Event wurde importiert von: https://www.kosa21.de/projekte-entdecken
 /veranstaltungen/eventdetail/3345/-/fahrradwerkstatt-paradies?tmpl=componen
 t</a>DTSTAMP:20260422T174220
DTSTART:20251008T150000
DTEND:20251008T170000
SEQUENCE:0
TRANSP:OPAQUE
END:VEVENT
END:VCALENDAR