BEGIN:VCALENDAR
VERSION:2.0
PRODID:-//jEvents 2.0 for Joomla//EN
CALSCALE:GREGORIAN
METHOD:PUBLISH
BEGIN:VEVENT
UID:05c717c6563678cfc8918f609c98682e
CATEGORIES:Lange Woche N - Offline
CREATED:20250903T175203
SUMMARY:Permakultur im Garten
LOCATION:IkuGa - Kuckhoffplatz 8\, Magdeburg\, Sachsen-Anhalt\, 39124\, 
URL;VALUE=URI:https://www.kosa21.de/projekte-entdecken/veranstaltungen/eventdetail/3315/-
 /permakultur-im-garten?tmpl=component
DESCRIPTION:Lerne, wie du deinen Garten nach den Prinzipien der Permakultur gestaltest 
 und ein ertragreiches Hügelbeet anlegst!\nPermakultur steht für naturnahes,
  zukunftsfähiges Gärtnern – mit wenig Aufwand und großer Wirkung. In diesem
  Workshop erhältst du zunächst eine Einführung in die Grundprinzipien der P
 ermakultur und Hinweise, wie du sie im eigenen Garten umsetzen kannst.\nIm 
 anschließenden Praxisteil geht es ans Tun: Gemeinsam wird ein dauerhaftes H
 ügelbeet umgesetzt – eine besonders effiziente und nährstoffreiche Anbaumet
 hode. Du lernst, welche Materialien sich eignen, wie du Schichtung und Bepf
 lanzung planst und warum dieses Beet auch in trockenen Zeiten gut funktioni
 ert.\nFür wen ist der Workshop?\nGartenbegeisterte, Selbstversorger:innen u
 nd alle, die ihren Garten ökologisch und pflegeleicht gestalten möchten. Vo
 rkenntnisse sind nicht nötig!\nBring bitte mit:\nFeste Schuhe, Arbeitshands
 chuhe (nicht nötig, aber von Vorteil) und bei Bedarf ein wenig Verpflegung.
 \nTeilnahmegebühr: 9 € p.P.\nZeit: 10:00 Uhr – 15:00 Uhr\nAnmeldung: Diese 
 E-Mail-Adresse ist vor Spambots geschützt! Zur Anzeige muss JavaScript eing
 eschaltet sein.\n Dieser Event wurde importiert von: https://www.kosa21.de/
 projekte-entdecken/veranstaltungen/eventdetail/3315/-/permakultur-im-garten
 ?tmpl=component
X-ALT-DESC;FMTTYPE=text/html:<div class="pure-u-1 pure-u-md-2-3"><p>Lerne, wie du deinen Garten nach den
  Prinzipien der Permakultur gestaltest und ein ertragreiches Hügelbeet anle
 gst!</p><p>Permakultur steht für naturnahes, zukunftsfähiges Gärtnern – mit
  wenig Aufwand und großer Wirkung. In diesem Workshop erhältst du zunächst 
 eine Einführung in die Grundprinzipien der Permakultur und Hinweise, wie du
  sie im eigenen Garten umsetzen kannst.</p><p>Im anschließenden Praxisteil 
 geht es ans Tun: Gemeinsam wird ein dauerhaftes Hügelbeet umgesetzt – eine 
 besonders effiziente und nährstoffreiche Anbaumethode. Du lernst, welche Ma
 terialien sich eignen, wie du Schichtung und Bepflanzung planst und warum d
 ieses Beet auch in trockenen Zeiten gut funktioniert.</p><p><strong>Für wen
  ist der Workshop?</strong><br />Gartenbegeisterte, Selbstversorger:innen u
 nd alle, die ihren Garten ökologisch und pflegeleicht gestalten möchten. Vo
 rkenntnisse sind nicht nötig!</p><p><strong>Bring bitte mit:</strong><br />
 Feste Schuhe, Arbeitshandschuhe (nicht nötig, aber von Vorteil) und bei Bed
 arf ein wenig Verpflegung.</p><p>Teilnahmegebühr: 9&nbsp;€ p.P.<br />Zeit: 
 10:00 Uhr – 15:00 Uhr<br />Anmeldung: <joomla-hidden-mail  is-link="1" is-e
 mail="1" first="aW5mbw==" last="aWt1Z2EuZGU=" text="aW5mb0Bpa3VnYS5kZQ==" b
 ase="" >Diese E-Mail-Adresse ist vor Spambots geschützt! Zur Anzeige muss J
 avaScript eingeschaltet sein.</joomla-hidden-mail></p></div> <a href="https
 ://www.kosa21.de/projekte-entdecken/veranstaltungen/eventdetail/3315/-/perm
 akultur-im-garten?tmpl=component">Dieser Event wurde importiert von: https:
 //www.kosa21.de/projekte-entdecken/veranstaltungen/eventdetail/3315/-/perma
 kultur-im-garten?tmpl=component</a>DTSTAMP:20260424T060611
DTSTART:20250920T100000
DTEND:20250920T150000
SEQUENCE:0
TRANSP:OPAQUE
END:VEVENT
END:VCALENDAR