BEGIN:VCALENDAR
VERSION:2.0
PRODID:-//jEvents 2.0 for Joomla//EN
CALSCALE:GREGORIAN
METHOD:PUBLISH
BEGIN:VEVENT
UID:a6f1c611ca69188abba36c5839763b97
CATEGORIES:Lange Woche N - Offline
CREATED:20250903T174810
SUMMARY:EU GREEN Biodiversity Lab - Naturmodul
LOCATION:Otto-von-Guericke-Universität Magdeburg - Universitätsplatz 2\, Magdeburg\,
  Sachsen-Anhalt\, 39106\, 
URL;VALUE=URI:https://www.kosa21.de/projekte-entdecken/veranstaltungen/eventdetail/3314/-
 /eu-green-biodiversity-lab-naturmodul?tmpl=component
DESCRIPTION:Im Rahmen von EU GREEN findet am Samstag, den 27. September 2025, von 13 bi
 s 17 Uhr ein Workshop am EU GREEN Pavillon gegenüber von Gebäude 5 zur Gest
 altung eines zweiten Naturmoduls statt. Geplant ist die Anlage einer Magerw
 iese auf nährstoffarmem Substrat. In Kooperation mit dem Interkulturellen G
 arten Magdeburg wird am Vormittag (10–12 Uhr) ein Vortrag der Naturgartenex
 pertin Barbara Loth zum Thema „Naturnahes Gärtnern“ angeboten, weitere Info
 rmationen und Anmeldung unter www.ikuga.de (https://www.ikuga.de). Für die 
 Teilnahme am Workshop im Biodiversity Lab ist eine Anmeldung per E-Mail an 
 Diese E-Mail-Adresse ist vor Spambots geschützt! Zur Anzeige muss JavaScrip
 t eingeschaltet sein. (Betreff: Biodiversity Lab) erforderlich.\n Dieser Ev
 ent wurde importiert von: https://www.kosa21.de/projekte-entdecken/veransta
 ltungen/eventdetail/3314/-/eu-green-biodiversity-lab-naturmodul?tmpl=compon
 ent
X-ALT-DESC;FMTTYPE=text/html:<p>Im Rahmen von&nbsp;EU GREEN&nbsp;findet am Samstag, den 27. September 20
 25, von 13 bis 17 Uhr ein Workshop am EU GREEN Pavillon gegenüber von Gebäu
 de 5 zur Gestaltung eines zweiten Naturmoduls statt. Geplant ist die Anlage
  einer Magerwiese auf nährstoffarmem Substrat. In Kooperation mit dem Inter
 kulturellen Garten Magdeburg wird am Vormittag (10–12 Uhr) ein Vortrag der 
 Naturgartenexpertin Barbara Loth zum Thema „Naturnahes Gärtnern“ angeboten,
  weitere Informationen und Anmeldung unter <a href="https://www.ikuga.de" t
 arget="_blank" rel="noopener">www.ikuga.de</a>. Für die Teilnahme am Worksh
 op im Biodiversity Lab ist eine Anmeldung per E-Mail an <joomla-hidden-mail
   is-link="1" is-email="1" first="ZXVncmVlbg==" last="b3ZndS5kZQ==" text="Z
 XVncmVlbkBvdmd1LmRl" base="" >Diese E-Mail-Adresse ist vor Spambots geschüt
 zt! Zur Anzeige muss JavaScript eingeschaltet sein.</joomla-hidden-mail>&nb
 sp;(Betreff:&nbsp;Biodiversity Lab) erforderlich.</p> <a href="https://www.
 kosa21.de/projekte-entdecken/veranstaltungen/eventdetail/3314/-/eu-green-bi
 odiversity-lab-naturmodul?tmpl=component">Dieser Event wurde importiert von
 : https://www.kosa21.de/projekte-entdecken/veranstaltungen/eventdetail/3314
 /-/eu-green-biodiversity-lab-naturmodul?tmpl=component</a>DTSTAMP:20260423T084649
DTSTART:20250927T130000
DTEND:20250927T160000
SEQUENCE:0
TRANSP:OPAQUE
END:VEVENT
END:VCALENDAR