BEGIN:VCALENDAR
VERSION:2.0
PRODID:-//jEvents 2.0 for Joomla//EN
CALSCALE:GREGORIAN
METHOD:PUBLISH
BEGIN:VEVENT
UID:45ad375e0d5ad617a4800ace231d3d4a
CATEGORIES:Lange Woche N - Offline
CREATED:20250903T090330
SUMMARY:World Cleanup Day
LOCATION:Holzmarkt\, Aschersleben - Holzmarkt 1\, Aschersleben\, Sachsen-Anhalt\, 06
 449\, 
URL;VALUE=URI:https://www.kosa21.de/projekte-entdecken/veranstaltungen/eventdetail/3310/-
 /world-cleanup-day?tmpl=component
DESCRIPTION:<p>Zum&nbsp;World Cleanup Day soll die Stadt gemeinsam von herumliegendem M
 üll gesäubert werden.</p><p>Sammelpunkt ist&nbsp;ab 9 Uhr auf dem Holzmarkt
 .</p> <a href="https://www.kosa21.de/projekte-entdecken/veranstaltungen/eve
 ntdetail/3310/-/world-cleanup-day?tmpl=component">Dieser Event wurde import
 iert von: https://www.kosa21.de/projekte-entdecken/veranstaltungen/eventdet
 ail/3310/-/world-cleanup-day?tmpl=component</a>DTSTAMP:20260424T103612
DTSTART:20250920T090000
SEQUENCE:0
TRANSP:OPAQUE
END:VEVENT
END:VCALENDAR