BEGIN:VCALENDAR
VERSION:2.0
PRODID:-//jEvents 2.0 for Joomla//EN
CALSCALE:GREGORIAN
METHOD:PUBLISH
BEGIN:VEVENT
UID:8ea9e77f46fe4419b3c377df67895972
CATEGORIES:Lange Woche N - Offline
CREATED:20250903T090015
SUMMARY:Abschlussparty im Bestehornpark 
LOCATION:Bestehornpark - Bestehornstraße\, Aschersleben\, \, 06449\, 
URL;VALUE=URI:https://www.kosa21.de/projekte-entdecken/veranstaltungen/eventdetail/3309/-
 /abschlussparty-im-bestehornpark?tmpl=component
DESCRIPTION:<p>Zielgruppe: alle Schülerinnen und Schüler&nbsp;</p><p>Abschlussparty im 
 Bestehornpark mit Spiel, Spaß, Musik und gemeinsamen Mittagessen.</p> <a hr
 ef="https://www.kosa21.de/projekte-entdecken/veranstaltungen/eventdetail/33
 09/-/abschlussparty-im-bestehornpark?tmpl=component">Dieser Event wurde imp
 ortiert von: https://www.kosa21.de/projekte-entdecken/veranstaltungen/event
 detail/3309/-/abschlussparty-im-bestehornpark?tmpl=component</a>DTSTAMP:20260424T140947
DTSTART:20250919T100000
DTEND:20250919T140000
SEQUENCE:0
TRANSP:OPAQUE
END:VEVENT
END:VCALENDAR