BEGIN:VCALENDAR
VERSION:2.0
PRODID:-//jEvents 2.0 for Joomla//EN
CALSCALE:GREGORIAN
METHOD:PUBLISH
BEGIN:VEVENT
UID:c086c455b3f3112f6af0bea2fac42084
CATEGORIES:Lange Woche N - Offline
CREATED:20250903T085804
SUMMARY:Abschlusspräsentation der Schülerinnen und Schüler 
LOCATION:Bestehornhaus - Hecknerstraße 6\, Aschersleben\, Sachsen-Anhalt\, 06449\, 
URL;VALUE=URI:https://www.kosa21.de/projekte-entdecken/veranstaltungen/eventdetail/3308/-
 /abschlusspraesentation-der-schuelerinnen-und-schueler?tmpl=component
DESCRIPTION:Zielgruppe: Schüler ab Klasse 7 \nAbschlusspräsentationen der Schülerinnen 
 und Schüler über das, was in der Woche geschafft wurde und was sie erlebt h
 aben.\n Dieser Event wurde importiert von: https://www.kosa21.de/projekte-e
 ntdecken/veranstaltungen/eventdetail/3308/-/abschlusspraesentation-der-schu
 elerinnen-und-schueler?tmpl=component
X-ALT-DESC;FMTTYPE=text/html:<p>Zielgruppe: Schüler ab Klasse 7&nbsp;</p><p>Abschlusspräsentationen der 
 Schülerinnen und Schüler über das, was in der Woche geschafft wurde und was
  sie erlebt haben.</p> <a href="https://www.kosa21.de/projekte-entdecken/ve
 ranstaltungen/eventdetail/3308/-/abschlusspraesentation-der-schuelerinnen-u
 nd-schueler?tmpl=component">Dieser Event wurde importiert von: https://www.
 kosa21.de/projekte-entdecken/veranstaltungen/eventdetail/3308/-/abschlusspr
 aesentation-der-schuelerinnen-und-schueler?tmpl=component</a>DTSTAMP:20260424T124000
DTSTART:20250919T103000
DTEND:20250919T113000
SEQUENCE:0
TRANSP:OPAQUE
END:VEVENT
END:VCALENDAR