BEGIN:VCALENDAR
VERSION:2.0
PRODID:-//jEvents 2.0 for Joomla//EN
CALSCALE:GREGORIAN
METHOD:PUBLISH
BEGIN:VEVENT
UID:ede5e6bd50318bc6869cb6622cd4584d
CATEGORIES:Lange Woche N - Offline
CREATED:20250903T074931
SUMMARY:Upcycling-Werkstatt - „Alles Tasche oder was!“ oder „Ich bin dann mal Müll“ sagt das Bild zu sich…
LOCATION:Kreativwerkstatt - Wilhelmstraße 21-23\, Aschersleben\, Sachsen-Anhalt\, 06
 449\, 
URL;VALUE=URI:https://www.kosa21.de/projekte-entdecken/veranstaltungen/eventdetail/3299/-
 /upcycling-werkstatt-alles-tasche-oder-was-oder-ich-bin-dann-mal-muell-sagt
 -das-bild-zu-sich?tmpl=component
DESCRIPTION:<p>Zielgruppe: Schüler von 11 bis 16 Jahre&nbsp;</p><p>Es gibt eine Menge v
 on farbigem Verpackungsmaterial, Folien, TetraPaks und vieles mehr, aus den
 en man schöne und nützliche Dinge herstellen kann. Hier könnt ihr z.&nbsp;B
 . Bilder oder Taschen aus Restmaterialien kreieren, unter Anleitung von Dip
 l. Designerin Mechthild Schnittka aus Quedlinburg. Es muss nichts mitgebrac
 ht werden. Das Material ist vorhanden, ebenso Nähmaterial, entsprechendes Z
 ubehör und notwendige Dinge für die Herstellung. Viel Spaß!</p><p>Verfügbar
 keit: ausgebucht&nbsp;</p> <a href="https://www.kosa21.de/projekte-entdecke
 n/veranstaltungen/eventdetail/3299/-/upcycling-werkstatt-alles-tasche-oder-
 was-oder-ich-bin-dann-mal-muell-sagt-das-bild-zu-sich?tmpl=component">Diese
 r Event wurde importiert von: https://www.kosa21.de/projekte-entdecken/vera
 nstaltungen/eventdetail/3299/-/upcycling-werkstatt-alles-tasche-oder-was-od
 er-ich-bin-dann-mal-muell-sagt-das-bild-zu-sich?tmpl=component</a>DTSTAMP:20260425T110100
DTSTART:20250918T090000
DTEND:20250918T120000
SEQUENCE:0
TRANSP:OPAQUE
END:VEVENT
END:VCALENDAR