BEGIN:VCALENDAR
VERSION:2.0
PRODID:-//jEvents 2.0 for Joomla//EN
CALSCALE:GREGORIAN
METHOD:PUBLISH
BEGIN:VEVENT
UID:630a5f055b39de4f839333d3c6d72841
CATEGORIES:Lange Woche N - Offline
CREATED:20250903T071636
SUMMARY:Besichtigung der NOVO-TECH Circular
LOCATION:NOVO-TECH GmbH &amp; Co. KG - Siemensstraße 31\, Aschersleben\, \, 06449\, 
URL;VALUE=URI:https://www.kosa21.de/projekte-entdecken/veranstaltungen/eventdetail/3291/-
 /besichtigung-der-novo-tech-circular?tmpl=component
DESCRIPTION:<p>Zielgruppe: Schüler ab Klasse 8&nbsp;</p><p>Besichtigung der NOVO-TECH C
 ircular - Wie funktioniert CradeToCradle?</p><p>Verfügbarkeit: ausgebucht</
 p> <a href="https://www.kosa21.de/projekte-entdecken/veranstaltungen/eventd
 etail/3291/-/besichtigung-der-novo-tech-circular?tmpl=component">Dieser Eve
 nt wurde importiert von: https://www.kosa21.de/projekte-entdecken/veranstal
 tungen/eventdetail/3291/-/besichtigung-der-novo-tech-circular?tmpl=componen
 t</a>DTSTAMP:20260425T231028
DTSTART:20250917T123000
DTEND:20250917T140000
SEQUENCE:0
TRANSP:OPAQUE
END:VEVENT
END:VCALENDAR