BEGIN:VCALENDAR
VERSION:2.0
PRODID:-//jEvents 2.0 for Joomla//EN
CALSCALE:GREGORIAN
METHOD:PUBLISH
BEGIN:VEVENT
UID:95f2b27589a7da3bc585b2ab376f85ae
CATEGORIES:Lange Woche N - Offline
CREATED:20250902T113502
SUMMARY:Zukunftsweisend und preisgekrönt: Besucht mit uns zwei herausragende Klimaschutzprojekte
LOCATION:bunte butze - Hans-Löscher-Str. 21\, Magdeburg\, \, 39108\, 
URL;VALUE=URI:https://www.kosa21.de/projekte-entdecken/veranstaltungen/eventdetail/3267/-
 /zukunftsweisend-und-preisgekroent-besucht-mit-uns-zwei-herausragende-klima
 schutzprojekte?tmpl=component
DESCRIPTION:Wie könnten wir künftig grüner, gesünder und klimaschonender wohnen? Diesen
  Fragen geht unsere Hausbesichtigung mit Stadt-Spaziergang in Magdeburg anh
 and von zwei Best Practice Beispielen nach.\nDie Tour beginnt mit einer Bes
 ichtigung der "bunten butze", die 2025 als erstes CO₂-neutrales Mehrfamilie
 nhaus den Umweltpreis des Landes Sachsen-Anhalt erhielt. Falk Lepie, einer 
 der Initiatoren des Projekts, wird den Teilnehmenden die ökologische Sanier
 ung des Bestandsbaus erläutern und aufzeigen, wie hier sozialer und günstig
 er Wohnraum mit modernsten Umweltstandards verbunden wurde. Der Fokus liegt
  auf den eingesetzten Technologien, nachhaltigen Baustoffen und den Herausf
 orderungen, die während der Realisierung gemeistert werden mussten.\nNach e
 inem gemeinsamen Mittagsimbiss im "Ernas Lebensmittelpunkt" führt der Spazi
 ergang entlang der Schrote zum zweiten Highlight: dem Kunstprojekt "DASmuti
 geINGE" am Heizhaus in der Lübecker Straße. Dieses innovative Projekt verbi
 ndet urbane Kunst mit praktischem Klimaschutz durch einen spektakulären ver
 tikalen Garten.\nAlexander Bieß von Diver(City), der Gestalter dieses außer
 gewöhnlichen Gartens, wird die Besonderheiten der verschiedenen Vegetations
 flächen erläutern, die auf einem speziellen Moossubstrat gedeihen. Dieses k
 ann pro Kubikmeter bis zu 100 Liter Wasser speichern und stellt damit eine 
 wirksame Maßnahme zur Klimaanpassung im städtischen Raum dar.\nFür wen ist 
 diese Exkursion gedacht? Der Stadt-Spaziergang richtet sich an alle Interes
 sierten, die sich über praktische Ansätze für eine nachhaltigere Stadtentwi
 cklung informieren möchten, Menschen, die ihren Altbau sanieren wollen oder
  eine Fassadenbegrünung planen. \nDie Teilnahme ist nur mit Anmeldung mögli
 ch, sie erhalten eine Anmeldebestätigung und auf Wunsch im Anschluss auch e
 ine Teilnahmebescheinigung von uns.\nAnmeldung: Diese E-Mail-Adresse ist vo
 r Spambots geschützt! Zur Anzeige muss JavaScript eingeschaltet sein.\nKost
 en: 15 Euro/10 Euro ermäßigt.\n Dieser Event wurde importiert von: https://
 www.kosa21.de/projekte-entdecken/veranstaltungen/eventdetail/3267/-/zukunft
 sweisend-und-preisgekroent-besucht-mit-uns-zwei-herausragende-klimaschutzpr
 ojekte?tmpl=component
X-ALT-DESC;FMTTYPE=text/html:<p>Wie könnten wir künftig grüner, gesünder und klimaschonender wohnen? Die
 sen Fragen geht unsere Hausbesichtigung mit Stadt-Spaziergang in Magdeburg 
 anhand von zwei Best Practice Beispielen nach.</p><p>Die Tour beginnt mit e
 iner Besichtigung der<strong> "bunten butze"</strong>, die 2025 als erstes 
 CO₂-neutrales Mehrfamilienhaus den Umweltpreis des Landes Sachsen-Anhalt er
 hielt. Falk Lepie, einer der Initiatoren des Projekts, wird den Teilnehmend
 en die ökologische Sanierung des Bestandsbaus erläutern und aufzeigen, wie 
 hier sozialer und günstiger Wohnraum mit modernsten Umweltstandards verbund
 en wurde. Der Fokus liegt auf den eingesetzten Technologien, nachhaltigen B
 austoffen und den Herausforderungen, die während der Realisierung gemeister
 t werden mussten.</p><p>Nach einem gemeinsamen Mittagsimbiss im "Ernas Lebe
 nsmittelpunkt" führt der Spaziergang entlang der Schrote zum zweiten Highli
 ght: dem <strong>Kunstprojekt "DASmutigeINGE"</strong> am Heizhaus in der L
 übecker Straße. Dieses innovative Projekt verbindet urbane Kunst mit prakti
 schem Klimaschutz durch einen spektakulären vertikalen Garten.</p><p>Alexan
 der Bieß von Diver(City), der Gestalter dieses außergewöhnlichen Gartens, w
 ird die Besonderheiten der verschiedenen Vegetationsflächen erläutern, die 
 auf einem speziellen Moossubstrat gedeihen. Dieses kann pro Kubikmeter bis 
 zu 100 Liter Wasser speichern und stellt damit eine wirksame Maßnahme zur K
 limaanpassung im städtischen Raum dar.</p><p>Für wen ist diese Exkursion ge
 dacht? Der Stadt-Spaziergang richtet sich an alle Interessierten, die sich 
 über praktische Ansätze für eine nachhaltigere Stadtentwicklung informieren
  möchten, Menschen, die ihren Altbau sanieren wollen oder eine Fassadenbegr
 ünung planen.&nbsp;</p><p>Die Teilnahme ist nur mit Anmeldung möglich, sie 
 erhalten eine Anmeldebestätigung und auf Wunsch im Anschluss auch eine Teil
 nahmebescheinigung von uns.</p><p>Anmeldung: <joomla-hidden-mail  is-link="
 1" is-email="1" first="YW5tZWxkdW5n" last="Ym9lbGwtc2FjaHNlbi1hbmhhbHQuZGU=
 " text="YW5tZWxkdW5nQGJvZWxsLXNhY2hzZW4tYW5oYWx0LmRl" base="" >Diese E-Mail
 -Adresse ist vor Spambots geschützt! Zur Anzeige muss JavaScript eingeschal
 tet sein.</joomla-hidden-mail><br />Kosten: 15 Euro/10 Euro ermäßigt.</p> <
 a href="https://www.kosa21.de/projekte-entdecken/veranstaltungen/eventdetai
 l/3267/-/zukunftsweisend-und-preisgekroent-besucht-mit-uns-zwei-herausragen
 de-klimaschutzprojekte?tmpl=component">Dieser Event wurde importiert von: h
 ttps://www.kosa21.de/projekte-entdecken/veranstaltungen/eventdetail/3267/-/
 zukunftsweisend-und-preisgekroent-besucht-mit-uns-zwei-herausragende-klimas
 chutzprojekte?tmpl=component</a>DTSTAMP:20260424T043424
DTSTART:20250920T101500
DTEND:20250920T150000
SEQUENCE:0
TRANSP:OPAQUE
END:VEVENT
END:VCALENDAR