BEGIN:VCALENDAR
VERSION:2.0
PRODID:-//jEvents 2.0 for Joomla//EN
CALSCALE:GREGORIAN
METHOD:PUBLISH
BEGIN:VEVENT
UID:ee834f999273355aa5a6d02fdcb6ec5d
CATEGORIES:Lange Woche N - Offline
CREATED:20250902T105823
SUMMARY:Kinotag 
LOCATION:Bestehornhaus - Hecknerstraße 6\, Aschersleben\, Sachsen-Anhalt\, 06449\, 
URL;VALUE=URI:https://www.kosa21.de/projekte-entdecken/veranstaltungen/eventdetail/3261/-
 /kinotag?tmpl=component
DESCRIPTION:Zielgruppe: Klasse 1 - 6 sowie Förderschulen\n1. Checker Tobi und das Gehei
 mnis unseres Planeten\n2. Checker Tobi und die fliegenden Flüsse\n3. Vaiana
 \nVerfügbarkeit: ausgebucht\n Dieser Event wurde importiert von: https://ww
 w.kosa21.de/projekte-entdecken/veranstaltungen/eventdetail/3261/-/kinotag?t
 mpl=component
X-ALT-DESC;FMTTYPE=text/html:<p>Zielgruppe: Klasse 1 - 6 sowie Förderschulen</p><p>1. Checker Tobi und d
 as Geheimnis unseres Planeten<br />2. Checker Tobi und die fliegenden Flüss
 e<br />3. Vaiana</p><p>Verfügbarkeit: ausgebucht</p> <a href="https://www.k
 osa21.de/projekte-entdecken/veranstaltungen/eventdetail/3261/-/kinotag?tmpl
 =component">Dieser Event wurde importiert von: https://www.kosa21.de/projek
 te-entdecken/veranstaltungen/eventdetail/3261/-/kinotag?tmpl=component</a>DTSTAMP:20260421T100243
DTSTART:20250915T100000
SEQUENCE:0
TRANSP:OPAQUE
END:VEVENT
END:VCALENDAR