BEGIN:VCALENDAR
VERSION:2.0
PRODID:-//jEvents 2.0 for Joomla//EN
CALSCALE:GREGORIAN
METHOD:PUBLISH
BEGIN:VEVENT
UID:ef40a37f5d0c39ba361c76c9e2b83182
CATEGORIES:Lange Woche N - Offline
CREATED:20250830T150232
SUMMARY:Altmarkkonferenz Sozial & Gerecht
LOCATION:Landratsamt Stendal - Hospitalstr. 1-2\, Stendal\, Sachsen-Anhalt\, 39576\,
  
URL;VALUE=URI:https://www.kosa21.de/projekte-entdecken/veranstaltungen/eventdetail/3257/-
 /altmarkkonferenz-sozial-gerecht?tmpl=component
DESCRIPTION:Arbeit. Gerechtigkeit. Zukunft. Am 20. September gestalten wir im Stendaler
  Landratsamt einen Tag zur sozialen Nachhaltigkeit in der Altmark. Was bede
 utet soziale Nachhaltigkeit im ländlichen Raum z. B. für Frauen, für Pflege
 , für das Handwerk, für junge Menschen? Wie gerecht ist Arbeit verteilt? Wi
 e steht es mit der Gleichberechtigung von Mann und Frau, mit der Lohnanglei
 chung zwischen Ost und West aber auch zwischen Stadt und Land? Sozialforsch
 er von der Universität Magdeburg, DGB-Regionsgeschäftsführerin Katrin Skirl
 o (Altmark-Börde-Harz), Dr. Ulrike Spangenberg von der Bundesstiftung für G
 leichstellung und Jaqueline Radtke, die Gleichstellungsbeauftragte der Hans
 estadt Stendal, sind als Expert*innen dabei. Interaktive Formate laden zum 
 Mitdenken, Diskutieren, Austausch und Perspektivwechsel ein. Und zum Abschl
 uss gibt’s den kabarettistischen Blick von Sunna Huygen. Alles kostenlos!\n
 Alle, die das Thema anspricht, sind willkommen. \nWeitere Informationen (ht
 tps://www.fa-altmark.de/save-the-date-altmarkkonferenz-sozial-gerecht/)\n D
 ieser Event wurde importiert von: https://www.kosa21.de/projekte-entdecken/
 veranstaltungen/eventdetail/3257/-/altmarkkonferenz-sozial-gerecht?tmpl=com
 ponent
X-ALT-DESC;FMTTYPE=text/html:<p>Arbeit. Gerechtigkeit. Zukunft. Am 20. September gestalten wir im Stenda
 ler Landratsamt einen Tag zur sozialen Nachhaltigkeit in der Altmark. Was b
 edeutet soziale Nachhaltigkeit im ländlichen Raum z. B. für Frauen, für Pfl
 ege, für das Handwerk, für junge Menschen? Wie gerecht ist Arbeit verteilt?
  Wie steht es mit der Gleichberechtigung von Mann und Frau, mit der Lohnang
 leichung zwischen Ost und West aber auch zwischen Stadt und Land? Sozialfor
 scher von der Universität Magdeburg, DGB-Regionsgeschäftsführerin Katrin Sk
 irlo (Altmark-Börde-Harz), Dr. Ulrike Spangenberg von der Bundesstiftung fü
 r Gleichstellung und Jaqueline Radtke, die Gleichstellungsbeauftragte der H
 ansestadt Stendal, sind als Expert*innen dabei. Interaktive Formate laden z
 um Mitdenken, Diskutieren, Austausch und Perspektivwechsel ein. Und zum Abs
 chluss gibt’s den kabarettistischen Blick von Sunna Huygen. Alles kostenlos
 !</p><p>Alle, die das Thema anspricht, sind willkommen.&nbsp;</p><p><a href
 ="https://www.fa-altmark.de/save-the-date-altmarkkonferenz-sozial-gerecht/"
  target="_blank" rel="noopener">Weitere Informationen</a></p> <a href="http
 s://www.kosa21.de/projekte-entdecken/veranstaltungen/eventdetail/3257/-/alt
 markkonferenz-sozial-gerecht?tmpl=component">Dieser Event wurde importiert 
 von: https://www.kosa21.de/projekte-entdecken/veranstaltungen/eventdetail/3
 257/-/altmarkkonferenz-sozial-gerecht?tmpl=component</a>DTSTAMP:20260424T091040
DTSTART:20250920T100000
DTEND:20250920T160000
SEQUENCE:0
TRANSP:OPAQUE
END:VEVENT
END:VCALENDAR