BEGIN:VCALENDAR
VERSION:2.0
PRODID:-//jEvents 2.0 for Joomla//EN
CALSCALE:GREGORIAN
METHOD:PUBLISH
BEGIN:VEVENT
UID:8df406c238846945db850cccb1cc95a2
CATEGORIES:Lange Woche N - Offline
CREATED:20250830T142256
SUMMARY:Neues Denken, wirksam handeln – Zukunft machen!
LOCATION:Wiegand Quartier - Am Saalehang 4\, Merseburg\, Sachsen-Anhalt\, 06217\, 
URL;VALUE=URI:https://www.kosa21.de/projekte-entdecken/veranstaltungen/eventdetail/3256/-
 /neues-denken-wirksam-handeln-zukunft-machen?tmpl=component
DESCRIPTION:Zentralveranstaltung zur Langen Woche der Nachhaltigkeit in der Region Hall
 e in Kooperation mit der IHK Halle-Dessau (https://www.ihk.de/halle/) und d
 em Netzwerk Nachhaltigkeit in der Wirtschaft (https://nachhaltig-wirtschaft
 en-mitteldeutschland.de).\nPapierberge, Pflichtberichte, Missverständnisse 
 – Schluss damit! Wir bringen frischen Wind in die Diskussion rund um Bürokr
 atie und Nachhaltigkeit. Mit inspirierenden Unternehmern, ehrlichen Einblic
 ken und konkreten Tipps, wie Veränderung wirklich gelingt, geben wir Impuls
 e für eine zukunftsfähige und starke Unternehmensführung.\nZum Programm (ht
 tps://lange-wochen.de/termine/zentrale-veranstaltung/)\nZur Anmeldung (http
 s://lange-wochen.de/anmeldung/)\n Dieser Event wurde importiert von: https:
 //www.kosa21.de/projekte-entdecken/veranstaltungen/eventdetail/3256/-/neues
 -denken-wirksam-handeln-zukunft-machen?tmpl=component
X-ALT-DESC;FMTTYPE=text/html:<p>Zentralveranstaltung zur Langen Woche der Nachhaltigkeit in der Region H
 alle&nbsp;in Kooperation mit der <a href="https://www.ihk.de/halle/" target
 ="_blank" rel="noopener">IHK Halle-Dessau</a> und dem <a href="https://nach
 haltig-wirtschaften-mitteldeutschland.de" target="_blank" rel="noopener">Ne
 tzwerk Nachhaltigkeit in der Wirtschaft</a>.</p><p>Papierberge, Pflichtberi
 chte, Missverständnisse – Schluss damit! Wir bringen frischen Wind in die D
 iskussion rund um Bürokratie und Nachhaltigkeit. Mit inspirierenden Unterne
 hmern, ehrlichen Einblicken und konkreten Tipps, wie Veränderung wirklich g
 elingt, geben wir Impulse für eine zukunftsfähige und starke Unternehmensfü
 hrung.</p><p><a href="https://lange-wochen.de/termine/zentrale-veranstaltun
 g/" target="_blank" rel="noopener">Zum Programm</a></p><p><a href="https://
 lange-wochen.de/anmeldung/" target="_blank" rel="noopener">Zur Anmeldung</a
 ></p> <a href="https://www.kosa21.de/projekte-entdecken/veranstaltungen/eve
 ntdetail/3256/-/neues-denken-wirksam-handeln-zukunft-machen?tmpl=component"
 >Dieser Event wurde importiert von: https://www.kosa21.de/projekte-entdecke
 n/veranstaltungen/eventdetail/3256/-/neues-denken-wirksam-handeln-zukunft-m
 achen?tmpl=component</a>DTSTAMP:20260423T103316
DTSTART:20250926T083000
DTEND:20250926T123000
SEQUENCE:0
TRANSP:OPAQUE
END:VEVENT
END:VCALENDAR