BEGIN:VCALENDAR
VERSION:2.0
PRODID:-//jEvents 2.0 for Joomla//EN
CALSCALE:GREGORIAN
METHOD:PUBLISH
BEGIN:VEVENT
UID:cceb6e598a7ed6827f21145fd4b23aa6
CATEGORIES:Lange Woche N - Offline
CREATED:20240805T095444
SUMMARY:So schmeckt Marktschwärmer - Jubiläumsverteilung & Verkostung
LOCATION:Feuerwache Magdeburg - Halberstädter Straße 140\, Magdeburg\, \, 39112\, 
URL;VALUE=URI:https://www.kosa21.de/aktionswochen/lange-woche-nachhaltigkeit/lwn-programm
 -2024-hm/eventdetail/3071/-/so-schmeckt-marktschwaermer-jubilaeumsverteilun
 g-verkostung?tmpl=component
DESCRIPTION:<p>Vom 16. bis 27. September 2024 veranstaltet Marktschwärmer in Kooperatio
 n mit dem Tag der Regionen eine besondere Verkostungsaktion. Unter dem Mott
 o "So schmeckt Marktschwärmer" werden in zahlreichen Schwärmereien in ganz 
 Deutschland regionale Produkte verkostet. Ziel dieser Initiative ist es, Me
 nschen regionale Lebensmittel näherzubringen und sie von den vielen guten G
 ründen für den Konsum regionaler Produkte zu überzeugen. Gleichzeitig haben
  die Besucher*innen die Möglichkeit, Erzeuger*innen persönlich kennenzulern
 en und mehr über die Herkunft und Herstellung ihrer Produkte zu erfahren.</
 p><p>Die Marktschwärmerei Magdeburg beteiligt sich am 24.09.2024.</p> <a hr
 ef="https://www.kosa21.de/aktionswochen/lange-woche-nachhaltigkeit/lwn-prog
 ramm-2024-hm/eventdetail/3071/-/so-schmeckt-marktschwaermer-jubilaeumsverte
 ilung-verkostung?tmpl=component">Dieser Event wurde importiert von: https:/
 /www.kosa21.de/aktionswochen/lange-woche-nachhaltigkeit/lwn-programm-2024-h
 m/eventdetail/3071/-/so-schmeckt-marktschwaermer-jubilaeumsverteilung-verko
 stung?tmpl=component</a>DTSTAMP:20260420T085258
DTSTART:20240924T163000
DTEND:20240924T183000
SEQUENCE:0
TRANSP:OPAQUE
END:VEVENT
END:VCALENDAR